BEGIN:VCALENDAR
PRODID:-//Century 21 Realty One Calendar
VERSION:2.0
METHOD:PUBLISH
BEGIN:VEVENT
URL:https://menai.century21.com.au/property/residential/buy/nsw/2177/bonnyrigg-heights/456256
ORGANIZER:admin@c21menai.com.au
DTSTART:20190323T153000
DTEND:20190323T163000
LOCATION:25 Cartwright Street,  Bonnyrigg Heights
DTSTAMP:20190301T083614
SUMMARY:Century 21 Realty One Auction - 25 Cartwright Street,  Bonnyrigg Heights
DESCRIPTION:Auction: 25 Cartwright Street,  Bonnyrigg Heights 
Saturday 03:30 PM
Click the link for full listing information:https://menai.century21.com.au/property/residential/buy/nsw/2177/bonnyrigg-heights/456256
CLASS:PUBLIC
BEGIN:VALARM
TRIGGER:-PT1D
ACTION:DISPLAY
DESCRIPTION:Reminder
END:VALARM
END:VEVENT
END:VCALENDAR